BEGIN:VCALENDAR
VERSION:2.0
PRODID:-//Veteranen Kennemerland - ECPv6.15.20//NONSGML v1.0//EN
CALSCALE:GREGORIAN
METHOD:PUBLISH
X-WR-CALNAME:Veteranen Kennemerland
X-ORIGINAL-URL:https://veteranenkennemerland.nl
X-WR-CALDESC:Evenementen voor Veteranen Kennemerland
REFRESH-INTERVAL;VALUE=DURATION:PT1H
X-Robots-Tag:noindex
X-PUBLISHED-TTL:PT1H
BEGIN:VTIMEZONE
TZID:Europe/Amsterdam
BEGIN:DAYLIGHT
TZOFFSETFROM:+0100
TZOFFSETTO:+0200
TZNAME:CEST
DTSTART:20240331T010000
END:DAYLIGHT
BEGIN:STANDARD
TZOFFSETFROM:+0200
TZOFFSETTO:+0100
TZNAME:CET
DTSTART:20241027T010000
END:STANDARD
BEGIN:DAYLIGHT
TZOFFSETFROM:+0100
TZOFFSETTO:+0200
TZNAME:CEST
DTSTART:20250330T010000
END:DAYLIGHT
BEGIN:STANDARD
TZOFFSETFROM:+0200
TZOFFSETTO:+0100
TZNAME:CET
DTSTART:20251026T010000
END:STANDARD
BEGIN:DAYLIGHT
TZOFFSETFROM:+0100
TZOFFSETTO:+0200
TZNAME:CEST
DTSTART:20260329T010000
END:DAYLIGHT
BEGIN:STANDARD
TZOFFSETFROM:+0200
TZOFFSETTO:+0100
TZNAME:CET
DTSTART:20261025T010000
END:STANDARD
END:VTIMEZONE
BEGIN:VEVENT
DTSTART;TZID=Europe/Amsterdam:20250705T130000
DTEND;TZID=Europe/Amsterdam:20250705T150000
DTSTAMP:20260421T224047
CREATED:20250617T120146Z
LAST-MODIFIED:20250618T123255Z
UID:1240-1751720400-1751727600@veteranenkennemerland.nl
SUMMARY:Herdenking Manpadslaan Heemstede
DESCRIPTION:Op zaterdag 5 juli 2025 wordt bij de Manpadslaan in Heemstede opnieuw stilgestaan bij de Slag bij het Manpad. De jaarlijkse herdenking vindt plaats om 14.00 uur bij de gedenknaald aan de Herenweg\, vlak bij het historische landgoed Huis te Manpad. Dit jaar wordt de herdenking iets groter opgezet\, met meer aandacht voor het belang van deze plek in de geschiedenis van onze regio én van Nederland. Veteranen Kennemerland is hierbij aanwezig en nodigt iedereen van harte uit om mee te herdenken. \n \nMeer info over de Slag te Manpad vind je hier “Herdenking Slag bij het Manpad” \nHeb je vragen of wil je deelnemen namens een organisatie of vereniging? Neem dan contact op via: Nico Baan.
URL:https://veteranenkennemerland.nl/evenementen/herdenking-manpadslaan-heemstede/
LOCATION:Gedenknaald – Manpad\, Manpadslaan - Herenweg\, Heemstede\, 2105 MB\, Netherlands
CATEGORIES:Heemstede,Herdenkingen
ATTACH;FMTTYPE=image/jpeg:https://veteranenkennemerland.nl/wp-content/uploads/2024/07/agenda-herdenking.jpg
ORGANIZER;CN="Veteranencomit%C3%A9 Heemstede":MAILTO:nbaan@kpnmail.nl
END:VEVENT
END:VCALENDAR