BEGIN:VCALENDAR
VERSION:2.0
PRODID:-//Veteranen Kennemerland - ECPv6.15.20//NONSGML v1.0//EN
CALSCALE:GREGORIAN
METHOD:PUBLISH
X-WR-CALNAME:Veteranen Kennemerland
X-ORIGINAL-URL:https://veteranenkennemerland.nl
X-WR-CALDESC:Evenementen voor Veteranen Kennemerland
REFRESH-INTERVAL;VALUE=DURATION:PT1H
X-Robots-Tag:noindex
X-PUBLISHED-TTL:PT1H
BEGIN:VTIMEZONE
TZID:Europe/Amsterdam
BEGIN:DAYLIGHT
TZOFFSETFROM:+0100
TZOFFSETTO:+0200
TZNAME:CEST
DTSTART:20240331T010000
END:DAYLIGHT
BEGIN:STANDARD
TZOFFSETFROM:+0200
TZOFFSETTO:+0100
TZNAME:CET
DTSTART:20241027T010000
END:STANDARD
BEGIN:DAYLIGHT
TZOFFSETFROM:+0100
TZOFFSETTO:+0200
TZNAME:CEST
DTSTART:20250330T010000
END:DAYLIGHT
BEGIN:STANDARD
TZOFFSETFROM:+0200
TZOFFSETTO:+0100
TZNAME:CET
DTSTART:20251026T010000
END:STANDARD
BEGIN:DAYLIGHT
TZOFFSETFROM:+0100
TZOFFSETTO:+0200
TZNAME:CEST
DTSTART:20260329T010000
END:DAYLIGHT
BEGIN:STANDARD
TZOFFSETFROM:+0200
TZOFFSETTO:+0100
TZNAME:CET
DTSTART:20261025T010000
END:STANDARD
END:VTIMEZONE
BEGIN:VEVENT
DTSTART;TZID=Europe/Amsterdam:20251224T160000
DTEND;TZID=Europe/Amsterdam:20251224T180000
DTSTAMP:20260421T131112
CREATED:20251216T160310Z
LAST-MODIFIED:20251216T173608Z
UID:1991-1766592000-1766599200@veteranenkennemerland.nl
SUMMARY:Lichtjesavond Eerebegraafplaats Overveen
DESCRIPTION:Lichtjesavond Eerebegraafplaats Overveen – 80 jaar vrijheid\nOp kerstavond\, 24 december\, organiseert Veteranen Kennemerland i.s.m. Stichting Oorlogshistorie Bloemendaal een stille Lichtjesavond op de Eerebegraafplaats in Overveen\, als waardige afsluiting van het herdenkingsjaar 80 jaar vrijheid. \nTijdens deze avond worden bij alle grafstenen lichtjes geplaatst ter nagedachtenis aan de verzetsmensen die hier begraven liggen. Mannen en vrouwen die tijdens de Tweede Wereldoorlog opstonden tegen onderdrukking en hun leven gaven voor onze vrijheid. \nDe Lichtjesavond kent geen programma\, geen toespraken en geen muziek. In stilte en met respect staan we stil bij hun namen\, hun keuzes en de vrijheid die zij ons nalieten. \nBezoekers zijn welkom om dit moment in rust en waardigheid mee te beleven. \n\nOproep vrijwilligers – Lichtjesavond 24 december\nVoor de stille Lichtjesavond op 24 december op de Eerebegraafplaats te Overveen\, ter afsluiting van het herdenkingsjaar 80 jaar vrijheid\, is Veteranen Kennemerland op zoek naar een beperkt aantal vrijwilligers. \nDe vrijwilligers ondersteunen bij: \n\nhet plaatsen van lichtjes bij de grafstenen\,\nhet bewaken van rust en waardigheid tijdens de avond\,\nen de nazorg na afloop.\n\nWij zoeken mensen die: \n\nrespectvol en ingetogen willen bijdragen\,\nbegrijpen dat dit geen evenement is\, maar een moment van herdenken\,\nbij voorkeur affiniteit hebben met herdenken\, veteranen of geschiedenis.\n\nVanwege de aard van de locatie en het moment werken wij met een klein en gericht team. We nemen persoonlijk contact op om af te stemmen. \nGeïnteresseerden kunnen zich melden via: \nMomenteel geregistreerdJan Papendrecht Reinier Stienstra Joyce Holsbeeke Paul Emondt Fred Vrijhof Patrick van der Vegt Arjan Kranendonk Frans Hendriks Martin Akkerman Richard Mutsaers Dennis Buijs George ten Mirte Moes
URL:https://veteranenkennemerland.nl/evenementen/lichtjesavond-eerebegraafplaats-overveen/
LOCATION:Eerebegraafplaats Overveen\, Zeeweg\, Bloemendaal\, 2051 EC\, Netherlands
CATEGORIES:Bloemendaal,Herdenkingen,Kennemerland
ATTACH;FMTTYPE=image/jpeg:https://veteranenkennemerland.nl/wp-content/uploads/2025/10/agenda-herdenking.jpg
ORGANIZER;CN="Veteranen Kennemerland":MAILTO:info@veteranenkennemerland.nl
END:VEVENT
END:VCALENDAR