BEGIN:VCALENDAR
VERSION:2.0
PRODID:-//Veteranen Kennemerland - ECPv6.15.20//NONSGML v1.0//EN
CALSCALE:GREGORIAN
METHOD:PUBLISH
X-WR-CALNAME:Veteranen Kennemerland
X-ORIGINAL-URL:https://veteranenkennemerland.nl
X-WR-CALDESC:Evenementen voor Veteranen Kennemerland
REFRESH-INTERVAL;VALUE=DURATION:PT1H
X-Robots-Tag:noindex
X-PUBLISHED-TTL:PT1H
BEGIN:VTIMEZONE
TZID:Europe/Amsterdam
BEGIN:DAYLIGHT
TZOFFSETFROM:+0100
TZOFFSETTO:+0200
TZNAME:CEST
DTSTART:20230326T010000
END:DAYLIGHT
BEGIN:STANDARD
TZOFFSETFROM:+0200
TZOFFSETTO:+0100
TZNAME:CET
DTSTART:20231029T010000
END:STANDARD
BEGIN:DAYLIGHT
TZOFFSETFROM:+0100
TZOFFSETTO:+0200
TZNAME:CEST
DTSTART:20240331T010000
END:DAYLIGHT
BEGIN:STANDARD
TZOFFSETFROM:+0200
TZOFFSETTO:+0100
TZNAME:CET
DTSTART:20241027T010000
END:STANDARD
BEGIN:DAYLIGHT
TZOFFSETFROM:+0100
TZOFFSETTO:+0200
TZNAME:CEST
DTSTART:20250330T010000
END:DAYLIGHT
BEGIN:STANDARD
TZOFFSETFROM:+0200
TZOFFSETTO:+0100
TZNAME:CET
DTSTART:20251026T010000
END:STANDARD
END:VTIMEZONE
BEGIN:VEVENT
DTSTART;TZID=Europe/Amsterdam:20240907T123000
DTEND;TZID=Europe/Amsterdam:20240907T150000
DTSTAMP:20260422T125710
CREATED:20240709T092931Z
LAST-MODIFIED:20240709T144832Z
UID:617-1725712200-1725721200@veteranenkennemerland.nl
SUMMARY:Indië-herdenking in Roermond
DESCRIPTION:Tijdens de jaarlijkse Indië-herdenking in Roermond worden de gevallen militairen in het voormalige Nederlands-Indië en Nederlands Nieuw-Guinea herdacht. Ook herdacht worden de gevallen militairen die zijn uitgezonden tijdens alle internationale missies na de Tweede Wereldoorlog. \nConceptprogramma Herdenking zaterdag 7 september 2024 \n\n14.00 uur: aanvang\nOpeningswoord voorzitter stichting Nationaal Indië-monument 1945-1962\nOpeningsgebed\nToespraak lid regering\nGedicht voorgedragen door leerlingen van een Basisschool\nEerste officiële kranslegging\n\nMINUUT STILTE \n\nFly-by in de Missing Man Formation door een formatie van F-35 straaljagers van de Koninklijke Luchtmacht\nDeclamatie\nHijsen Nederlandse vlag en spelen van het Wilhelmus\nAanvang kransleggingen\nDefilé
URL:https://veteranenkennemerland.nl/evenementen/indie-herdenking-in-roermond/
LOCATION:Nationaal Indië-monument 1945-1962\, Maastrichterweg 19\, ROERMOND\, 6041 NZ\, Nederland
CATEGORIES:Herdenkingen
ATTACH;FMTTYPE=image/jpeg:https://veteranenkennemerland.nl/wp-content/uploads/2024/07/agenda-herdenking.jpg
ORGANIZER;CN="Stichting Nationaal Indi%C3%AB-monument 1945-1962":MAILTO:secretariaat@nim-roermond.nl
END:VEVENT
END:VCALENDAR