BEGIN:VCALENDAR
VERSION:2.0
PRODID:-//Veteranen Kennemerland - ECPv6.15.20//NONSGML v1.0//EN
CALSCALE:GREGORIAN
METHOD:PUBLISH
X-ORIGINAL-URL:https://veteranenkennemerland.nl
X-WR-CALDESC:Evenementen voor Veteranen Kennemerland
REFRESH-INTERVAL;VALUE=DURATION:PT1H
X-Robots-Tag:noindex
X-PUBLISHED-TTL:PT1H
BEGIN:VTIMEZONE
TZID:Europe/Amsterdam
BEGIN:DAYLIGHT
TZOFFSETFROM:+0100
TZOFFSETTO:+0200
TZNAME:CEST
DTSTART:20230326T010000
END:DAYLIGHT
BEGIN:STANDARD
TZOFFSETFROM:+0200
TZOFFSETTO:+0100
TZNAME:CET
DTSTART:20231029T010000
END:STANDARD
BEGIN:DAYLIGHT
TZOFFSETFROM:+0100
TZOFFSETTO:+0200
TZNAME:CEST
DTSTART:20240331T010000
END:DAYLIGHT
BEGIN:STANDARD
TZOFFSETFROM:+0200
TZOFFSETTO:+0100
TZNAME:CET
DTSTART:20241027T010000
END:STANDARD
BEGIN:DAYLIGHT
TZOFFSETFROM:+0100
TZOFFSETTO:+0200
TZNAME:CEST
DTSTART:20250330T010000
END:DAYLIGHT
BEGIN:STANDARD
TZOFFSETFROM:+0200
TZOFFSETTO:+0100
TZNAME:CET
DTSTART:20251026T010000
END:STANDARD
END:VTIMEZONE
BEGIN:VEVENT
DTSTART;TZID=Europe/Amsterdam:20240815T093000
DTEND;TZID=Europe/Amsterdam:20240815T130000
DTSTAMP:20260422T143042
CREATED:20240709T085810Z
LAST-MODIFIED:20240709T144801Z
UID:607-1723714200-1723726800@veteranenkennemerland.nl
SUMMARY:Indië herdenking Haarlem
DESCRIPTION:Op 15 augustus 2024 staan we in wooncomplex Lieflijk Indië weer stil bij het einde van de Tweede Wereldoorlog voor het Koninkrijk der Nederlanden en herdenken we alle slachtoffers van de oorlog tegen Japan en de Japanse bezetting van Nederlands-Indië. \nWanneer:\n15 augustus 2024 \nWaar:\nOntmoetingsruimte wooncomplex Lieflijk Indië\nVilniusstraat 3\, Haarlem Schalkwijk \nTijdstip:\nOntvangst gasten: 10.30 uur\nAanvang: 11.00 uur\nAfsluiting: 14.00 uur \nKosten:\nEntree gratis\nLunch: € 7\,50 per persoon \nExtra informatie:\nIndien je bij deze herdenking aanwezig wilt zijn\, meld dit dan bij Michel (Veteranen Haarlem) via telefoonnummer +31 6 50527339.\nEr is een beperkt aantal plekken beschikbaar! \nTijdens de herdenking zal er een kranslegging plaatsvinden\, waarbij ook de Haarlemse Veteranen hun eer betuigen. \nMen waardeert onze aanwezigheid enorm!
URL:https://veteranenkennemerland.nl/evenementen/indie-herdenking-haarlem/
LOCATION:lieflijk Indië\, Vilniusstraat 3\, Haarlem\, 2034 EM\, Nederland
CATEGORIES:Herdenkingen
ATTACH;FMTTYPE=image/jpeg:https://veteranenkennemerland.nl/wp-content/uploads/2024/07/agenda-herdenking.jpg
ORGANIZER;CN="Stichting Indische Ouderenraad Haarlem":MAILTO:info@sioh.nl
END:VEVENT
END:VCALENDAR